BEGIN:VCALENDAR
VERSION:2.0
PRODID:-//Intand Corporation//Tandem//EN
METHOD:PUBLISH
BEGIN:VEVENT
DTSTAMP:20260419T124825Z
DTSTART:20260427T220000Z
DTEND:20260428T000000Z
TRANSP:TRANSPARENT
PRIORITY:0
SUMMARY:HS softball @ USJ
LOCATION:UNKNOWN
DESCRIPTION:Groups:\nHS Softball\n\nLocation:\nUNKNOWN\n\n
URL;VALUE=URI:https://jacksonchristian.tandem.co/index.php?type=view&actio
 n=event&id=3774
CREATED:20260112T142650Z
LAST-MODIFIED:20260112T142650Z
UID:event-3774-jacksonchristian@intand.com
END:VEVENT
END:VCALENDAR
